BEGIN:VCALENDAR
VERSION:2.0
PRODID:-//National Kidney Foundation of Florida - ECPv6.15.20//NONSGML v1.0//EN
CALSCALE:GREGORIAN
METHOD:PUBLISH
X-ORIGINAL-URL:https://kidneyfl.org
X-WR-CALDESC:Events for National Kidney Foundation of Florida
REFRESH-INTERVAL;VALUE=DURATION:PT1H
X-Robots-Tag:noindex
X-PUBLISHED-TTL:PT1H
BEGIN:VTIMEZONE
TZID:America/New_York
BEGIN:DAYLIGHT
TZOFFSETFROM:-0500
TZOFFSETTO:-0400
TZNAME:EDT
DTSTART:20250309T070000
END:DAYLIGHT
BEGIN:STANDARD
TZOFFSETFROM:-0400
TZOFFSETTO:-0500
TZNAME:EST
DTSTART:20251102T060000
END:STANDARD
BEGIN:DAYLIGHT
TZOFFSETFROM:-0500
TZOFFSETTO:-0400
TZNAME:EDT
DTSTART:20260308T070000
END:DAYLIGHT
BEGIN:STANDARD
TZOFFSETFROM:-0400
TZOFFSETTO:-0500
TZNAME:EST
DTSTART:20261101T060000
END:STANDARD
BEGIN:DAYLIGHT
TZOFFSETFROM:-0500
TZOFFSETTO:-0400
TZNAME:EDT
DTSTART:20270314T070000
END:DAYLIGHT
BEGIN:STANDARD
TZOFFSETFROM:-0400
TZOFFSETTO:-0500
TZNAME:EST
DTSTART:20271107T060000
END:STANDARD
END:VTIMEZONE
BEGIN:VEVENT
DTSTART;VALUE=DATE:20260108
DTEND;VALUE=DATE:20260109
DTSTAMP:20260424T081907
CREATED:20250827T161404Z
LAST-MODIFIED:20250827T161404Z
UID:4249-1767830400-1767916799@kidneyfl.org
SUMMARY:Monthly Virtual Patient Support Group Meeting
DESCRIPTION:
URL:https://kidneyfl.org/event/monthly-virtual-patient-support-group-meeting-53/
ORGANIZER;CN="Joe Karan":MAILTO:jkaran@kidneyfla.org
END:VEVENT
BEGIN:VEVENT
DTSTART;VALUE=DATE:20260112
DTEND;VALUE=DATE:20260113
DTSTAMP:20260424T081907
CREATED:20251202T205224Z
LAST-MODIFIED:20251202T205224Z
UID:4319-1768176000-1768262399@kidneyfl.org
SUMMARY:Your Kidneys & You with the Alpha Kappa Psi Fraternity
DESCRIPTION:
URL:https://kidneyfl.org/event/your-kidneys-you-with-the-alpha-kappa-psi-fraternity/
ORGANIZER;CN="Barbara Chatman":MAILTO:bchatman@kidneyfla.org
END:VEVENT
BEGIN:VEVENT
DTSTART;VALUE=DATE:20260116
DTEND;VALUE=DATE:20260119
DTSTAMP:20260424T081907
CREATED:20250827T161438Z
LAST-MODIFIED:20250827T161438Z
UID:4251-1768521600-1768780799@kidneyfl.org
SUMMARY:Florida Society of Nephrology Meeting
DESCRIPTION:
URL:https://kidneyfl.org/event/florida-society-of-nephrology-meeting-3/
ORGANIZER;CN="Savanna Lanza":MAILTO:slanza@kidneyfla.org
END:VEVENT
BEGIN:VEVENT
DTSTART;VALUE=DATE:20260117
DTEND;VALUE=DATE:20260118
DTSTAMP:20260424T081907
CREATED:20250827T161507Z
LAST-MODIFIED:20250827T161507Z
UID:4253-1768608000-1768694399@kidneyfl.org
SUMMARY:NKFF Board of Directors Meeting
DESCRIPTION:
URL:https://kidneyfl.org/event/nkff-board-of-directors-meeting-12/
ORGANIZER;CN="Savanna Lanza":MAILTO:slanza@kidneyfla.org
END:VEVENT
BEGIN:VEVENT
DTSTART;VALUE=DATE:20260124
DTEND;VALUE=DATE:20260125
DTSTAMP:20260424T081907
CREATED:20251217T200705Z
LAST-MODIFIED:20251217T200705Z
UID:4335-1769212800-1769299199@kidneyfl.org
SUMMARY:Surf Team Contest
DESCRIPTION:
URL:https://kidneyfl.org/event/surf-team-contest/
ORGANIZER;CN="Savanna Lanza":MAILTO:slanza@kidneyfla.org
END:VEVENT
BEGIN:VEVENT
DTSTART;VALUE=DATE:20260128
DTEND;VALUE=DATE:20260129
DTSTAMP:20260424T081907
CREATED:20251202T205309Z
LAST-MODIFIED:20251202T205309Z
UID:4321-1769558400-1769644799@kidneyfl.org
SUMMARY:Your Kidneys & You with Mt Nebo Baptist Church Senior Program
DESCRIPTION:
URL:https://kidneyfl.org/event/your-kidneys-you-with-mt-nebo-baptist-church-senior-program/
ORGANIZER;CN="Barbara Chatman":MAILTO:bchatman@kidneyfla.org
END:VEVENT
BEGIN:VEVENT
DTSTART;VALUE=DATE:20260131
DTEND;VALUE=DATE:20260201
DTSTAMP:20260424T081907
CREATED:20250827T161532Z
LAST-MODIFIED:20250827T161532Z
UID:4255-1769817600-1769903999@kidneyfl.org
SUMMARY:United Arab Emirates Embassy 5k to Benefit the NKFF
DESCRIPTION:
URL:https://kidneyfl.org/event/united-arab-emirates-embassy-5k-to-benefit-the-nkff/
ORGANIZER;CN="Savanna Lanza":MAILTO:slanza@kidneyfla.org
END:VEVENT
END:VCALENDAR